BEGIN:VCALENDAR
VERSION:2.0
PRODID:-//Feedo Feed//NONSGML v1.0//EN
CALSCALE:GREGORIAN
METHOD:PUBLISH
X-WR-CALNAME:24-Sept-2026
X-WR-CALDESC:
X-MS-OLK-FORCEINSPECTOROPEN:TRUE
BEGIN:VEVENT
CATEGORIES:Réseau DSIEST
DTSTAMP:20260422T105958
DTSTART:20260924T163000
DTEND:20260924T223000
LOCATION:
SUMMARY:DSIEST - 24 Sept 2026
DESCRIPTION:
TRANSP:TRANSPARENT
UID:277a408629@plancast.com
URL:http://www.dsiest.com/component/ohanah/sept-2026?format=html
END:VEVENT
END:VCALENDAR